BEGIN:VCALENDAR
PRODID:-//Microsoft Corporation//Outlook 15.0 MIMEDIR//EN
VERSION:2.0
METHOD:PUBLISH
X-MS-OLK-FORCEINSPECTOROPEN:TRUE
BEGIN:VTIMEZONE
TZID:E. Australia Standard Time
BEGIN:STANDARD
DTSTART:16010101T000000
TZOFFSETFROM:+1000
TZOFFSETTO:+1000
END:STANDARD
END:VTIMEZONE
BEGIN:VEVENT
CLASS:PUBLIC
CREATED:20171214T050710Z
DESCRIPTION:SUNSHINE COAST HOME SHOW AND CARAVAN\, CAMPING AND BOATING EXPO
	\n12 – 14 October 2018 | Sunshine Coast Stadium\, Bokarina\, Sunshine Co
	ast QLD\nwww.sunshinecoastexpo.com.au <http://www.sunshinecoastexpo.com.au
	>  \nThe Sunshine Coast Home Show and Caravan\, Camping and Boating Expo i
	s the region’s largest and most successful event of its kind. Over 220 l
	ocal and regional companies will be exhibiting with a massive range of dis
	plays with products and services for our homes\, lifestyles\, outdoor livi
	ng and outdoor adventure.\nThis year’s event will showcase everything fr
	om home and outdoor living ideas\, solar\, tanks\, pools and spas\, kitche
	ns\, beds\, air-conditioning\, blinds\, builders\, finance to caravans\, c
	amper trailers\, 4x4’s\, camping equipment\, vehicle accessories and out
	door adventure gear. There will be everything you need to build or renovat
	e your home and outdoor living areas and get all the gear you need to star
	t exploring the great outdoors!\nLET THE GOOD TIMES ROLL!\nWith over 220 e
	xhibiting companies and thousands of products and services to view\, you b
	etter plan your day! Wear comfortable walking shoes\, put on a hat and sla
	p on your sunscreen. Grab your event guide from the Sunshine Coast Daily n
	ewspaper prior to the event\, or grab a copy as you enter.\nBe prepared fo
	r a day of adventure\, learning\, shopping and entertainment. You will nee
	d the best part of the day (or three!) to see it all. Take a break in the 
	food courts and enjoy the daily cooking demonstrations and entertainment. 
	Be prepared to bring home some new knick-knacks\, quotes for renovations o
	r a new motorhome or jet ski! Most of all\, come prepared for the region
	’s largest event of its kind\, the Sunshine Coast Home Show and Caravan\
	, Camping and Boating Expo!\n\n
DTEND;TZID="E. Australia Standard Time":20181014T160000
DTSTAMP:20171214T050710Z
DTSTART;TZID="E. Australia Standard Time":20181012T090000
LAST-MODIFIED:20171214T050710Z
LOCATION:Sunshine Coast Stadium\, Bokarina\, Sunshine Coast QLD 4575
PRIORITY:5
SEQUENCE:0
SUMMARY;LANGUAGE=en-us:Sunshine Coast Home Show and Caravan\, Camping and B
	oating Expo
TRANSP:OPAQUE
UID:040000008200E00074C5B7101A82E008000000005099AF02ED74D301000000000000000
	0100000000892780496D7B54EBA86211F045448E2
X-ALT-DESC;FMTTYPE=text/html:<!DOCTYPE HTML PUBLIC "-//W3C//DTD HTML 3.2//E
	N">\n<HTML>\n<HEAD>\n<META NAME="Generator" CONTENT="MS Exchange Server ve
	rsion rmj.rmm.rup.rpr">\n<TITLE></TITLE>\n</HEAD>\n<BODY>\n<!-- Converted 
	from text/rtf format -->\n\n<P DIR=LTR ALIGN=CENTER><B><SPAN LANG="en-au">
	</SPAN><SPAN LANG="en-au"><FONT COLOR="#FF0000" SIZE=6 FACE="Calibri">SUNS
	HINE COAST HOME SHOW AND CARAVAN\, CAMPING AND BOATING EXPO</FONT></SPAN><
	/B></P>\n\n<P DIR=LTR ALIGN=CENTER><B><SPAN LANG="en-au"></SPAN><SPAN LANG
	="en-au"><FONT SIZE=4 FACE="Calibri">12 – 14 October 2018 | Sunshine Coa
	st Stadium\, Bokarina\, Sunshine Coast QLD</FONT></SPAN></B></P>\n\n<P DIR
	=LTR ALIGN=CENTER><B><SPAN LANG="en-au"></SPAN></B><A HREF="http://www.sun
	shinecoastexpo.com.au"><B><SPAN LANG="en-au"></SPAN><SPAN LANG="en-au"><U>
	<FONT COLOR="#0563C1" SIZE=4 FACE="Calibri">www.sunshinecoastexpo.com.au</
	FONT></U></SPAN><SPAN LANG="en-au"></SPAN></B></A><B><SPAN LANG="en-au"></
	SPAN><SPAN LANG="en-au"><FONT SIZE=4 FACE="Calibri"></FONT></SPAN><SPAN LA
	NG="en-au"></SPAN><SPAN LANG="en-au"> </SPAN></B></P>\n\n<P DIR=LTR><SPAN 
	LANG="en-au"></SPAN><SPAN LANG="en-au"></SPAN><SPAN LANG="en-au"><FONT SIZ
	E=4 FACE="Calibri">The Sunshine Coast Home Show and Caravan\, Camping and 
	Boating Expo is the region’s largest and most successful event of its ki
	nd. Over 220 local and regional companies will be exhibiting with a massiv
	e range of displays with products and services for our homes\, lifestyles\
	, outdoor living and outdoor adventure.</FONT></SPAN></P>\n\n<P DIR=LTR><S
	PAN LANG="en-au"><FONT SIZE=4 FACE="Calibri">This year’s event will show
	case everything from home and outdoor living ideas\, solar\, tanks\, pools
	 and spas\, kitchens\, beds\, air-conditioning\, blinds\, builders\, finan
	ce to caravans\, camper trailers\, 4x4’s\, camping equipment\, vehicle a
	ccessories and outdoor adventure gear. There will be everything you need t
	o build or renovate your home and outdoor living areas and get all the gea
	r you need to start exploring the great outdoors!</FONT></SPAN></P>\n\n<P 
	DIR=LTR ALIGN=CENTER><SPAN LANG="en-au"><B></B></SPAN><B><SPAN LANG="en-au
	"></SPAN><SPAN LANG="en-au"><FONT SIZE=4 FACE="Calibri">LET THE GOOD TIMES
	 ROLL!</FONT></SPAN><SPAN LANG="en-au"></SPAN><SPAN LANG="en-au"></SPAN></
	B></P>\n\n<P DIR=LTR><SPAN LANG="en-au"></SPAN><SPAN LANG="en-au"></SPAN><
	SPAN LANG="en-au"><FONT SIZE=4 FACE="Calibri">With over 220 exhibiting com
	panies and thousands of products and services to view\, you better plan yo
	ur day! Wear comfortable walking shoes\, put on a hat and slap on your sun
	screen. Grab your event guide from the Sunshine Coast Daily newspaper prio
	r to the event\, or grab a copy as you enter.</FONT></SPAN></P>\n\n<P DIR=
	LTR><SPAN LANG="en-au"><FONT SIZE=4 FACE="Calibri">Be prepared for a day o
	f adventure\, learning\, shopping and entertainment. You will need the bes
	t part of the day (or three!) to see it all. Take a break in the food cour
	ts and enjoy the daily cooking demonstrations and entertainment. Be prepar
	ed to bring home some new knick-knacks\, quotes for renovations or a new m
	otorhome or jet ski! Most of all\, come prepared for the region’s larges
	t event of its kind\, the Sunshine Coast Home Show and Caravan\, Camping a
	nd Boating Expo!</FONT></SPAN></P>\n\n<P DIR=LTR><SPAN LANG="en-au"></SPAN
	><SPAN LANG="en-au"></SPAN><SPAN LANG="en-au"></SPAN><SPAN LANG="en-au"></
	SPAN></P>\n\n</BODY>\n</HTML>
X-MICROSOFT-CDO-BUSYSTATUS:BUSY
X-MICROSOFT-CDO-IMPORTANCE:1
X-MICROSOFT-DISALLOW-COUNTER:FALSE
X-MS-OLK-AUTOFILLLOCATION:FALSE
X-MS-OLK-CONFTYPE:0
BEGIN:VALARM
TRIGGER:-PT15M
ACTION:DISPLAY
DESCRIPTION:Reminder
END:VALARM
END:VEVENT
END:VCALENDAR
